BEGIN:VCALENDAR
VERSION:2.0
PRODID:-//destination.one//NONSGML destination.meta API//DE
X-WR-CALDESC:A calendar powered by destination.meta
X-WR-CALNAME:ostfriesland Kalender via destination.meta
BEGIN:VEVENT
CATEGORIES:Familien/Kinder sonstige
DESCRIPTION:Kids aktiv:\nWir bemalen Drachen und lassen sie gemeinsam flieg
 en.\n\nmehr Informationen unter http://pages.destination.one/de/ostfriesla
 nd/streaming/detail/Event/e_101260236/kids-aktiv-drachen-bemalen-und-steig
 en-lassen
DTEND;TZID=Europe/Berlin:20260424T120000
DTSTAMP:20260424T085846Z
DTSTART;TZID=Europe/Berlin:20260424T100000
GEO:53.675892;7.570868
LOCATION:NordseeClub\, Am Strand 8\, Bensersiel
ORGANIZER;CN=Esens-Bensersiel Tourismus GmbH:mailto:nordseeurlaub@bensersie
 l.de
SEQUENCE:0
SUMMARY:Kids aktiv: Drachen bemalen und steigen lassen
UID:e_101260236_iv0
URL:http://pages.destination.one/de/ostfriesland/streaming/detail/Event/e_1
 01260236/kids-aktiv-drachen-bemalen-und-steigen-lassen
END:VEVENT
BEGIN:VEVENT
CATEGORIES:Familien/Kinder sonstige
DESCRIPTION:Kids aktiv:\nWir bemalen Drachen und lassen sie gemeinsam flieg
 en.\n\nmehr Informationen unter http://pages.destination.one/de/ostfriesla
 nd/streaming/detail/Event/e_101260236/kids-aktiv-drachen-bemalen-und-steig
 en-lassen
DTEND;TZID=Europe/Berlin:20260508T160000
DTSTAMP:20260424T085846Z
DTSTART;TZID=Europe/Berlin:20260508T140000
GEO:53.675892;7.570868
LOCATION:NordseeClub\, Am Strand 8\, Bensersiel
ORGANIZER;CN=Esens-Bensersiel Tourismus GmbH:mailto:nordseeurlaub@bensersie
 l.de
SEQUENCE:0
SUMMARY:Kids aktiv: Drachen bemalen und steigen lassen
UID:e_101260236_iv1
URL:http://pages.destination.one/de/ostfriesland/streaming/detail/Event/e_1
 01260236/kids-aktiv-drachen-bemalen-und-steigen-lassen
END:VEVENT
BEGIN:VEVENT
CATEGORIES:Familien/Kinder sonstige
DESCRIPTION:Kids aktiv:\nWir bemalen Drachen und lassen sie gemeinsam flieg
 en.\n\nmehr Informationen unter http://pages.destination.one/de/ostfriesla
 nd/streaming/detail/Event/e_101260236/kids-aktiv-drachen-bemalen-und-steig
 en-lassen
DTEND;TZID=Europe/Berlin:20260522T160000
DTSTAMP:20260424T085846Z
DTSTART;TZID=Europe/Berlin:20260522T140000
GEO:53.675892;7.570868
LOCATION:NordseeClub\, Am Strand 8\, Bensersiel
ORGANIZER;CN=Esens-Bensersiel Tourismus GmbH:mailto:nordseeurlaub@bensersie
 l.de
SEQUENCE:0
SUMMARY:Kids aktiv: Drachen bemalen und steigen lassen
UID:e_101260236_iv2
URL:http://pages.destination.one/de/ostfriesland/streaming/detail/Event/e_1
 01260236/kids-aktiv-drachen-bemalen-und-steigen-lassen
END:VEVENT
BEGIN:VTIMEZONE
TZID:Europe/Berlin
X-LIC-LOCATION:Europe/Berlin
BEGIN:DAYLIGHT
DTSTART:19700329T020000
RRULE:FREQ=YEARLY;BYDAY=-1SU;BYMONTH=3
TZNAME:CEST
TZOFFSETFROM:+0100
TZOFFSETTO:+0200
END:DAYLIGHT
BEGIN:STANDARD
DTSTART:19701025T030000
RRULE:FREQ=YEARLY;BYDAY=-1SU;BYMONTH=10
TZNAME:CET
TZOFFSETFROM:+0200
TZOFFSETTO:+0100
END:STANDARD
END:VTIMEZONE
END:VCALENDAR
