BEGIN:VCALENDAR
VERSION:2.0
PRODID:-//destination.one//NONSGML destination.meta API//DE
X-WR-CALDESC:A calendar powered by destination.meta
X-WR-CALNAME:ostfriesland Kalender via destination.meta
BEGIN:VEVENT
CATEGORIES:Familien/Kinder sonstige
DESCRIPTION:Kreativ: Wir gestalten bunte Perlenarmbänder oder bemalen Mäppc
 hen.\n\nmehr Informationen unter http://pages.destination.one/de/ostfriesl
 and/streaming/detail/Event/e_101260226/malen-m-ppchen-kreativ-perlenarmb-n
 der
DTEND;TZID=Europe/Berlin:20260423T120000
DTSTAMP:20260423T145223Z
DTSTART;TZID=Europe/Berlin:20260423T100000
GEO:53.675892;7.570868
LOCATION:NordseeClub\, Am Strand 8\, Bensersiel
ORGANIZER;CN=Esens-Bensersiel Tourismus GmbH:mailto:nordseeurlaub@bensersie
 l.de
SEQUENCE:0
SUMMARY:Malen: Mäppchen / Kreativ: Perlenarmbänder
UID:e_101260226_iv0
URL:http://pages.destination.one/de/ostfriesland/streaming/detail/Event/e_1
 01260226/malen-m-ppchen-kreativ-perlenarmb-nder
END:VEVENT
BEGIN:VEVENT
CATEGORIES:Familien/Kinder sonstige
DESCRIPTION:Kreativ: Wir gestalten bunte Perlenarmbänder oder bemalen Mäppc
 hen.\n\nmehr Informationen unter http://pages.destination.one/de/ostfriesl
 and/streaming/detail/Event/e_101260226/malen-m-ppchen-kreativ-perlenarmb-n
 der
DTEND;TZID=Europe/Berlin:20260507T160000
DTSTAMP:20260423T145223Z
DTSTART;TZID=Europe/Berlin:20260507T140000
GEO:53.675892;7.570868
LOCATION:NordseeClub\, Am Strand 8\, Bensersiel
ORGANIZER;CN=Esens-Bensersiel Tourismus GmbH:mailto:nordseeurlaub@bensersie
 l.de
SEQUENCE:0
SUMMARY:Malen: Mäppchen / Kreativ: Perlenarmbänder
UID:e_101260226_iv1
URL:http://pages.destination.one/de/ostfriesland/streaming/detail/Event/e_1
 01260226/malen-m-ppchen-kreativ-perlenarmb-nder
END:VEVENT
BEGIN:VEVENT
CATEGORIES:Familien/Kinder sonstige
DESCRIPTION:Kreativ: Wir gestalten bunte Perlenarmbänder oder bemalen Mäppc
 hen.\n\nmehr Informationen unter http://pages.destination.one/de/ostfriesl
 and/streaming/detail/Event/e_101260226/malen-m-ppchen-kreativ-perlenarmb-n
 der
DTEND;TZID=Europe/Berlin:20260521T160000
DTSTAMP:20260423T145223Z
DTSTART;TZID=Europe/Berlin:20260521T140000
GEO:53.675892;7.570868
LOCATION:NordseeClub\, Am Strand 8\, Bensersiel
ORGANIZER;CN=Esens-Bensersiel Tourismus GmbH:mailto:nordseeurlaub@bensersie
 l.de
SEQUENCE:0
SUMMARY:Malen: Mäppchen / Kreativ: Perlenarmbänder
UID:e_101260226_iv2
URL:http://pages.destination.one/de/ostfriesland/streaming/detail/Event/e_1
 01260226/malen-m-ppchen-kreativ-perlenarmb-nder
END:VEVENT
BEGIN:VEVENT
CATEGORIES:Familien/Kinder sonstige
DESCRIPTION:Kreativ: Wir gestalten bunte Perlenarmbänder oder bemalen Mäppc
 hen.\n\nmehr Informationen unter http://pages.destination.one/de/ostfriesl
 and/streaming/detail/Event/e_101260226/malen-m-ppchen-kreativ-perlenarmb-n
 der
DTEND;TZID=Europe/Berlin:20260528T160000
DTSTAMP:20260423T145223Z
DTSTART;TZID=Europe/Berlin:20260528T140000
GEO:53.675892;7.570868
LOCATION:NordseeClub\, Am Strand 8\, Bensersiel
ORGANIZER;CN=Esens-Bensersiel Tourismus GmbH:mailto:nordseeurlaub@bensersie
 l.de
SEQUENCE:0
SUMMARY:Malen: Mäppchen / Kreativ: Perlenarmbänder
UID:e_101260226_iv3
URL:http://pages.destination.one/de/ostfriesland/streaming/detail/Event/e_1
 01260226/malen-m-ppchen-kreativ-perlenarmb-nder
END:VEVENT
BEGIN:VTIMEZONE
TZID:Europe/Berlin
X-LIC-LOCATION:Europe/Berlin
BEGIN:DAYLIGHT
DTSTART:19700329T020000
RRULE:FREQ=YEARLY;BYDAY=-1SU;BYMONTH=3
TZNAME:CEST
TZOFFSETFROM:+0100
TZOFFSETTO:+0200
END:DAYLIGHT
BEGIN:STANDARD
DTSTART:19701025T030000
RRULE:FREQ=YEARLY;BYDAY=-1SU;BYMONTH=10
TZNAME:CET
TZOFFSETFROM:+0200
TZOFFSETTO:+0100
END:STANDARD
END:VTIMEZONE
END:VCALENDAR
