BEGIN:VCALENDAR
VERSION:2.0
PRODID:-//destination.one//NONSGML destination.meta API//DE
X-WR-CALDESC:A calendar powered by destination.meta
X-WR-CALNAME:ostfriesland Kalender via destination.meta
BEGIN:VEVENT
CATEGORIES:Theater sonstige
DESCRIPTION:Ein Theaterstück für Demokratie und gegen das Erstarken des Rec
 htsextremismus\n\nmehr Informationen unter http://pages.destination.one/de
 /ostfriesland/streaming/detail/Event/e_101216364/die-welt-soll-wieder-sch-
 ner-werden
DTEND;TZID=Europe/Berlin:20260423T220000
DTSTAMP:20260425T233819Z
DTSTART;TZID=Europe/Berlin:20260423T193000
GEO:53.374750;7.203080
LOCATION:Festspielhaus am Wall\, Theaterstraße 5\, Emden
ORGANIZER;CN=Theartic e.V.:mailto:ulrike.heymann@theartic-emden.de
SEQUENCE:0
SUMMARY:Die Welt soll wieder schöner werden!
UID:e_101216364_iv0
URL:http://pages.destination.one/de/ostfriesland/streaming/detail/Event/e_1
 01216364/die-welt-soll-wieder-sch-ner-werden
END:VEVENT
BEGIN:VEVENT
CATEGORIES:Theater sonstige
DESCRIPTION:Ein Theaterstück für Demokratie und gegen das Erstarken des Rec
 htsextremismus\n\nmehr Informationen unter http://pages.destination.one/de
 /ostfriesland/streaming/detail/Event/e_101216364/die-welt-soll-wieder-sch-
 ner-werden
DTEND;TZID=Europe/Berlin:20260424T220000
DTSTAMP:20260425T233819Z
DTSTART;TZID=Europe/Berlin:20260424T193000
GEO:53.374750;7.203080
LOCATION:Festspielhaus am Wall\, Theaterstraße 5\, Emden
ORGANIZER;CN=Theartic e.V.:mailto:ulrike.heymann@theartic-emden.de
SEQUENCE:0
SUMMARY:Die Welt soll wieder schöner werden!
UID:e_101216364_iv1
URL:http://pages.destination.one/de/ostfriesland/streaming/detail/Event/e_1
 01216364/die-welt-soll-wieder-sch-ner-werden
END:VEVENT
BEGIN:VEVENT
CATEGORIES:Theater sonstige
DESCRIPTION:Ein Theaterstück für Demokratie und gegen das Erstarken des Rec
 htsextremismus\n\nmehr Informationen unter http://pages.destination.one/de
 /ostfriesland/streaming/detail/Event/e_101216364/die-welt-soll-wieder-sch-
 ner-werden
DTEND;TZID=Europe/Berlin:20260425T220000
DTSTAMP:20260425T233819Z
DTSTART;TZID=Europe/Berlin:20260425T193000
GEO:53.374750;7.203080
LOCATION:Festspielhaus am Wall\, Theaterstraße 5\, Emden
ORGANIZER;CN=Theartic e.V.:mailto:ulrike.heymann@theartic-emden.de
SEQUENCE:0
SUMMARY:Die Welt soll wieder schöner werden!
UID:e_101216364_iv2
URL:http://pages.destination.one/de/ostfriesland/streaming/detail/Event/e_1
 01216364/die-welt-soll-wieder-sch-ner-werden
END:VEVENT
BEGIN:VTIMEZONE
TZID:Europe/Berlin
X-LIC-LOCATION:Europe/Berlin
BEGIN:DAYLIGHT
DTSTART:19700329T020000
RRULE:FREQ=YEARLY;BYDAY=-1SU;BYMONTH=3
TZNAME:CEST
TZOFFSETFROM:+0100
TZOFFSETTO:+0200
END:DAYLIGHT
BEGIN:STANDARD
DTSTART:19701025T030000
RRULE:FREQ=YEARLY;BYDAY=-1SU;BYMONTH=10
TZNAME:CET
TZOFFSETFROM:+0200
TZOFFSETTO:+0100
END:STANDARD
END:VTIMEZONE
END:VCALENDAR
