BEGIN:VCALENDAR
VERSION:2.0
PRODID:-//destination.one//NONSGML destination.meta API//DE
X-WR-CALDESC:A calendar powered by destination.meta
X-WR-CALNAME:ostfriesland Kalender via destination.meta
BEGIN:VEVENT
CATEGORIES:Literatur sonstige
DESCRIPTION:\n\nmehr Informationen unter http://pages.destination.one/de/os
 tfriesland/streaming/detail/Event/e_101214901/b-cher-casting-berraschende-
 geschichten
DTEND;TZID=Europe/Berlin:20260422T113000
DTSTAMP:20260422T022419Z
DTSTART;TZID=Europe/Berlin:20260422T100000
GEO:53.593650;7.210770
LOCATION:Stadtbibliothek Norden\, Neuer Weg 35-37\, Norden
ORGANIZER;CN=Stadtbibliothek Norden:mailto:bibliothek@norden.de
SEQUENCE:0
SUMMARY:Bücher-Casting - Überraschende Geschichten
UID:e_101214901_iv0
URL:http://pages.destination.one/de/ostfriesland/streaming/detail/Event/e_1
 01214901/b-cher-casting-berraschende-geschichten
END:VEVENT
BEGIN:VTIMEZONE
TZID:Europe/Berlin
X-LIC-LOCATION:Europe/Berlin
BEGIN:DAYLIGHT
DTSTART:19700329T020000
RRULE:FREQ=YEARLY;BYDAY=-1SU;BYMONTH=3
TZNAME:CEST
TZOFFSETFROM:+0100
TZOFFSETTO:+0200
END:DAYLIGHT
BEGIN:STANDARD
DTSTART:19701025T030000
RRULE:FREQ=YEARLY;BYDAY=-1SU;BYMONTH=10
TZNAME:CET
TZOFFSETFROM:+0200
TZOFFSETTO:+0100
END:STANDARD
END:VTIMEZONE
END:VCALENDAR
