BEGIN:VCALENDAR
VERSION:2.0
PRODID:-//destination.one//NONSGML destination.meta API//DE
X-WR-CALDESC:A calendar powered by destination.meta
X-WR-CALNAME:ostfriesland Kalender via destination.meta
BEGIN:VEVENT
CATEGORIES:Kostümführung
CATEGORIES:Themenführung
DESCRIPTION:\n\nmehr Informationen unter http://pages.destination.one/de/os
 tfriesland/streaming/detail/Event/e_101167797/krimif-hrung-mord-am-hafen
DTEND;TZID=Europe/Berlin:20260131T203000
DTSTAMP:20260425T234008Z
DTSTART;TZID=Europe/Berlin:20260131T190000
GEO:53.226246;7.451061
LOCATION:Waageplatz am Museumshafen in Leer\, Neue Str. 1\, Leer (Ostfriesl
 and)
ORGANIZER;CN=Stadtführerverein Leer e.V.:mailto:info@stadtfuehrer-leer.de
SEQUENCE:0
SUMMARY:Krimiführung "Mord am Hafen"
UID:e_101167797_iv0
URL:http://pages.destination.one/de/ostfriesland/streaming/detail/Event/e_1
 01167797/krimif-hrung-mord-am-hafen
END:VEVENT
BEGIN:VEVENT
CATEGORIES:Kostümführung
CATEGORIES:Themenführung
DESCRIPTION:\n\nmehr Informationen unter http://pages.destination.one/de/os
 tfriesland/streaming/detail/Event/e_101167797/krimif-hrung-mord-am-hafen
DTEND;TZID=Europe/Berlin:20260228T203000
DTSTAMP:20260425T234008Z
DTSTART;TZID=Europe/Berlin:20260228T190000
GEO:53.226246;7.451061
LOCATION:Waageplatz am Museumshafen in Leer\, Neue Str. 1\, Leer (Ostfriesl
 and)
ORGANIZER;CN=Stadtführerverein Leer e.V.:mailto:info@stadtfuehrer-leer.de
SEQUENCE:0
SUMMARY:Krimiführung "Mord am Hafen"
UID:e_101167797_iv1
URL:http://pages.destination.one/de/ostfriesland/streaming/detail/Event/e_1
 01167797/krimif-hrung-mord-am-hafen
END:VEVENT
BEGIN:VEVENT
CATEGORIES:Kostümführung
CATEGORIES:Themenführung
DESCRIPTION:\n\nmehr Informationen unter http://pages.destination.one/de/os
 tfriesland/streaming/detail/Event/e_101167797/krimif-hrung-mord-am-hafen
DTEND;TZID=Europe/Berlin:20260328T203000
DTSTAMP:20260425T234008Z
DTSTART;TZID=Europe/Berlin:20260328T190000
GEO:53.226246;7.451061
LOCATION:Waageplatz am Museumshafen in Leer\, Neue Str. 1\, Leer (Ostfriesl
 and)
ORGANIZER;CN=Stadtführerverein Leer e.V.:mailto:info@stadtfuehrer-leer.de
SEQUENCE:0
SUMMARY:Krimiführung "Mord am Hafen"
UID:e_101167797_iv2
URL:http://pages.destination.one/de/ostfriesland/streaming/detail/Event/e_1
 01167797/krimif-hrung-mord-am-hafen
END:VEVENT
BEGIN:VEVENT
CATEGORIES:Kostümführung
CATEGORIES:Themenführung
DESCRIPTION:\n\nmehr Informationen unter http://pages.destination.one/de/os
 tfriesland/streaming/detail/Event/e_101167797/krimif-hrung-mord-am-hafen
DTEND;TZID=Europe/Berlin:20260425T203000
DTSTAMP:20260425T234008Z
DTSTART;TZID=Europe/Berlin:20260425T190000
GEO:53.226246;7.451061
LOCATION:Waageplatz am Museumshafen in Leer\, Neue Str. 1\, Leer (Ostfriesl
 and)
ORGANIZER;CN=Stadtführerverein Leer e.V.:mailto:info@stadtfuehrer-leer.de
SEQUENCE:0
SUMMARY:Krimiführung "Mord am Hafen"
UID:e_101167797_iv3
URL:http://pages.destination.one/de/ostfriesland/streaming/detail/Event/e_1
 01167797/krimif-hrung-mord-am-hafen
END:VEVENT
BEGIN:VEVENT
CATEGORIES:Kostümführung
CATEGORIES:Themenführung
DESCRIPTION:\n\nmehr Informationen unter http://pages.destination.one/de/os
 tfriesland/streaming/detail/Event/e_101167797/krimif-hrung-mord-am-hafen
DTEND;TZID=Europe/Berlin:20260801T203000
DTSTAMP:20260425T234008Z
DTSTART;TZID=Europe/Berlin:20260801T190000
GEO:53.226246;7.451061
LOCATION:Waageplatz am Museumshafen in Leer\, Neue Str. 1\, Leer (Ostfriesl
 and)
ORGANIZER;CN=Stadtführerverein Leer e.V.:mailto:info@stadtfuehrer-leer.de
SEQUENCE:0
SUMMARY:Krimiführung "Mord am Hafen"
UID:e_101167797_iv4
URL:http://pages.destination.one/de/ostfriesland/streaming/detail/Event/e_1
 01167797/krimif-hrung-mord-am-hafen
END:VEVENT
BEGIN:VEVENT
CATEGORIES:Kostümführung
CATEGORIES:Themenführung
DESCRIPTION:\n\nmehr Informationen unter http://pages.destination.one/de/os
 tfriesland/streaming/detail/Event/e_101167797/krimif-hrung-mord-am-hafen
DTEND;TZID=Europe/Berlin:20260829T203000
DTSTAMP:20260425T234008Z
DTSTART;TZID=Europe/Berlin:20260829T190000
GEO:53.226246;7.451061
LOCATION:Waageplatz am Museumshafen in Leer\, Neue Str. 1\, Leer (Ostfriesl
 and)
ORGANIZER;CN=Stadtführerverein Leer e.V.:mailto:info@stadtfuehrer-leer.de
SEQUENCE:0
SUMMARY:Krimiführung "Mord am Hafen"
UID:e_101167797_iv5
URL:http://pages.destination.one/de/ostfriesland/streaming/detail/Event/e_1
 01167797/krimif-hrung-mord-am-hafen
END:VEVENT
BEGIN:VEVENT
CATEGORIES:Kostümführung
CATEGORIES:Themenführung
DESCRIPTION:\n\nmehr Informationen unter http://pages.destination.one/de/os
 tfriesland/streaming/detail/Event/e_101167797/krimif-hrung-mord-am-hafen
DTEND;TZID=Europe/Berlin:20260926T203000
DTSTAMP:20260425T234008Z
DTSTART;TZID=Europe/Berlin:20260926T190000
GEO:53.226246;7.451061
LOCATION:Waageplatz am Museumshafen in Leer\, Neue Str. 1\, Leer (Ostfriesl
 and)
ORGANIZER;CN=Stadtführerverein Leer e.V.:mailto:info@stadtfuehrer-leer.de
SEQUENCE:0
SUMMARY:Krimiführung "Mord am Hafen"
UID:e_101167797_iv6
URL:http://pages.destination.one/de/ostfriesland/streaming/detail/Event/e_1
 01167797/krimif-hrung-mord-am-hafen
END:VEVENT
BEGIN:VEVENT
CATEGORIES:Kostümführung
CATEGORIES:Themenführung
DESCRIPTION:\n\nmehr Informationen unter http://pages.destination.one/de/os
 tfriesland/streaming/detail/Event/e_101167797/krimif-hrung-mord-am-hafen
DTEND;TZID=Europe/Berlin:20261031T203000
DTSTAMP:20260425T234008Z
DTSTART;TZID=Europe/Berlin:20261031T190000
GEO:53.226246;7.451061
LOCATION:Waageplatz am Museumshafen in Leer\, Neue Str. 1\, Leer (Ostfriesl
 and)
ORGANIZER;CN=Stadtführerverein Leer e.V.:mailto:info@stadtfuehrer-leer.de
SEQUENCE:0
SUMMARY:Krimiführung "Mord am Hafen"
UID:e_101167797_iv7
URL:http://pages.destination.one/de/ostfriesland/streaming/detail/Event/e_1
 01167797/krimif-hrung-mord-am-hafen
END:VEVENT
BEGIN:VEVENT
CATEGORIES:Kostümführung
CATEGORIES:Themenführung
DESCRIPTION:\n\nmehr Informationen unter http://pages.destination.one/de/os
 tfriesland/streaming/detail/Event/e_101167797/krimif-hrung-mord-am-hafen
DTEND;TZID=Europe/Berlin:20261128T203000
DTSTAMP:20260425T234008Z
DTSTART;TZID=Europe/Berlin:20261128T190000
GEO:53.226246;7.451061
LOCATION:Waageplatz am Museumshafen in Leer\, Neue Str. 1\, Leer (Ostfriesl
 and)
ORGANIZER;CN=Stadtführerverein Leer e.V.:mailto:info@stadtfuehrer-leer.de
SEQUENCE:0
SUMMARY:Krimiführung "Mord am Hafen"
UID:e_101167797_iv8
URL:http://pages.destination.one/de/ostfriesland/streaming/detail/Event/e_1
 01167797/krimif-hrung-mord-am-hafen
END:VEVENT
BEGIN:VEVENT
CATEGORIES:Kostümführung
CATEGORIES:Themenführung
DESCRIPTION:\n\nmehr Informationen unter http://pages.destination.one/de/os
 tfriesland/streaming/detail/Event/e_101167797/krimif-hrung-mord-am-hafen
DTEND;TZID=Europe/Berlin:20261212T203000
DTSTAMP:20260425T234008Z
DTSTART;TZID=Europe/Berlin:20261212T190000
GEO:53.226246;7.451061
LOCATION:Waageplatz am Museumshafen in Leer\, Neue Str. 1\, Leer (Ostfriesl
 and)
ORGANIZER;CN=Stadtführerverein Leer e.V.:mailto:info@stadtfuehrer-leer.de
SEQUENCE:0
SUMMARY:Krimiführung "Mord am Hafen"
UID:e_101167797_iv9
URL:http://pages.destination.one/de/ostfriesland/streaming/detail/Event/e_1
 01167797/krimif-hrung-mord-am-hafen
END:VEVENT
BEGIN:VTIMEZONE
TZID:Europe/Berlin
X-LIC-LOCATION:Europe/Berlin
BEGIN:DAYLIGHT
DTSTART:19700329T020000
RRULE:FREQ=YEARLY;BYDAY=-1SU;BYMONTH=3
TZNAME:CEST
TZOFFSETFROM:+0100
TZOFFSETTO:+0200
END:DAYLIGHT
BEGIN:STANDARD
DTSTART:19701025T030000
RRULE:FREQ=YEARLY;BYDAY=-1SU;BYMONTH=10
TZNAME:CET
TZOFFSETFROM:+0200
TZOFFSETTO:+0100
END:STANDARD
END:VTIMEZONE
END:VCALENDAR
