BEGIN:VCALENDAR
VERSION:2.0
PRODID:-//destination.one//NONSGML destination.meta API//DE
X-WR-CALDESC:A calendar powered by destination.meta
X-WR-CALNAME:ostfriesland Kalender via destination.meta
BEGIN:VEVENT
CATEGORIES:Gesundheit sonstige
CATEGORIES:Gesundheit und Prävention
CATEGORIES:Meditation
CATEGORIES:Seminar/Kurs/Workshop sonstige
CATEGORIES:Sportkurs
DESCRIPTION:Morgenmeditation - Gesundheitswoche auf Juist\n\nmehr Informati
 onen unter http://pages.destination.one/de/ostfriesland/streaming/detail/E
 vent/e_101131196/morgenmeditation-gesundheitswoche
DTEND;TZID=Europe/Berlin:20260413T081500
DTSTAMP:20260422T122836Z
DTSTART;TZID=Europe/Berlin:20260413T073000
GEO:53.679590;6.999257
LOCATION:Haus des Kurgastes\, Strandsportraum\, Eingang Ostseite/ Dünenseit
 e\, Haus des Kurgastes\, Strandsportraum\, Eingang Ostseite/ Dünenseite\, 
 Strandpromenade 6\, Juist
RRULE:FREQ=WEEKLY;UNTIL=20260417T053000;BYDAY=MO,TU,WE,TH,FR,SA,SU
SEQUENCE:0
SUMMARY:Morgenmeditation - Gesundheitswoche
UID:e_101131196_iv0
URL:http://pages.destination.one/de/ostfriesland/streaming/detail/Event/e_1
 01131196/morgenmeditation-gesundheitswoche
END:VEVENT
BEGIN:VTIMEZONE
TZID:Europe/Berlin
X-LIC-LOCATION:Europe/Berlin
BEGIN:DAYLIGHT
DTSTART:19700329T020000
RRULE:FREQ=YEARLY;BYDAY=-1SU;BYMONTH=3
TZNAME:CEST
TZOFFSETFROM:+0100
TZOFFSETTO:+0200
END:DAYLIGHT
BEGIN:STANDARD
DTSTART:19701025T030000
RRULE:FREQ=YEARLY;BYDAY=-1SU;BYMONTH=10
TZNAME:CET
TZOFFSETFROM:+0200
TZOFFSETTO:+0100
END:STANDARD
END:VTIMEZONE
END:VCALENDAR
