BEGIN:VCALENDAR
VERSION:2.0
PRODID:-//destination.one//NONSGML destination.meta API//DE
X-WR-CALDESC:A calendar powered by destination.meta
X-WR-CALNAME:ostfriesland Kalender via destination.meta
BEGIN:VEVENT
CATEGORIES:Theater sonstige
CATEGORIES:Konzert
DESCRIPTION:Eine Theaterproduktion von TAG Theater\n\nmehr Informationen un
 ter http://pages.destination.one/de/ostfriesland/streaming/detail/Event/e_
 101046621/moby-dick-eine-geschichte-vom-wesen-des-meeres
DTEND;TZID=Europe/Berlin:20260425T220000
DTSTAMP:20260425T233713Z
DTSTART;TZID=Europe/Berlin:20260425T200000
GEO:53.195310;7.419160
LOCATION:Gulfhaus >dartein< in Driever\, Klosterstraße 13\, Westoverledinge
 n
ORGANIZER;CN=Gulfhaus >dartein< in Driever:mailto:fam.remy@gmx.de
SEQUENCE:0
SUMMARY:Moby Dick: Eine Geschichte vom Wesen des Meeres
UID:e_101046621_iv0
URL:http://pages.destination.one/de/ostfriesland/streaming/detail/Event/e_1
 01046621/moby-dick-eine-geschichte-vom-wesen-des-meeres
END:VEVENT
BEGIN:VTIMEZONE
TZID:Europe/Berlin
X-LIC-LOCATION:Europe/Berlin
BEGIN:DAYLIGHT
DTSTART:19700329T020000
RRULE:FREQ=YEARLY;BYDAY=-1SU;BYMONTH=3
TZNAME:CEST
TZOFFSETFROM:+0100
TZOFFSETTO:+0200
END:DAYLIGHT
BEGIN:STANDARD
DTSTART:19701025T030000
RRULE:FREQ=YEARLY;BYDAY=-1SU;BYMONTH=10
TZNAME:CET
TZOFFSETFROM:+0200
TZOFFSETTO:+0100
END:STANDARD
END:VTIMEZONE
END:VCALENDAR
