BEGIN:VCALENDAR
VERSION:2.0
PRODID:-//destination.one//NONSGML destination.meta API//DE
X-WR-CALDESC:A calendar powered by destination.meta
X-WR-CALNAME:ostfriesland Kalender via destination.meta
BEGIN:VEVENT
CATEGORIES:Bastelkurs
DESCRIPTION:\n\nmehr Informationen unter http://pages.destination.one/de/os
 tfriesland/streaming/detail/Event/e_100812216/bernstein-handschleifkurs
DTEND;TZID=Europe/Berlin:20240320T113000
DTSTAMP:20260422T022430Z
DTSTART;TZID=Europe/Berlin:20240320T093000
GEO:53.588789;7.182616
LOCATION:Westgaster Mühle Norden\, Alleestraße\, Norden
ORGANIZER;CN=Kerstin  Ebbighausen:mailto:kebbighausen@web.de
RRULE:FREQ=WEEKLY;BYDAY=WE
SEQUENCE:0
SUMMARY:Bernstein Handschleifkurs
UID:e_100812216_iv0
URL:http://pages.destination.one/de/ostfriesland/streaming/detail/Event/e_1
 00812216/bernstein-handschleifkurs
END:VEVENT
BEGIN:VTIMEZONE
TZID:Europe/Berlin
X-LIC-LOCATION:Europe/Berlin
BEGIN:DAYLIGHT
DTSTART:19700329T020000
RRULE:FREQ=YEARLY;BYDAY=-1SU;BYMONTH=3
TZNAME:CEST
TZOFFSETFROM:+0100
TZOFFSETTO:+0200
END:DAYLIGHT
BEGIN:STANDARD
DTSTART:19701025T030000
RRULE:FREQ=YEARLY;BYDAY=-1SU;BYMONTH=10
TZNAME:CET
TZOFFSETFROM:+0200
TZOFFSETTO:+0100
END:STANDARD
END:VTIMEZONE
END:VCALENDAR
