BEGIN:VCALENDAR
VERSION:2.0
PRODID:-//destination.one//NONSGML destination.meta API//DE
X-WR-CALDESC:A calendar powered by destination.meta
X-WR-CALNAME:ostfriesland Kalender via destination.meta
BEGIN:VEVENT
CATEGORIES:Führung
CATEGORIES:Naturführung
CATEGORIES:... zu Fuß
CATEGORIES:Exkursion
DESCRIPTION:Wie kommt das Salz ins Meer? Wie entstand Wangerooge? Was\nist 
 Sand? Diese und andere Fragen wollen wir bei einer\nWanderung durch die Wa
 ngerooger Inselnatur beantworten.\n\nmehr Informationen unter http://pages
 .destination.one/de/ostfriesland/streaming/detail/Event/e_100790758/geogra
 phische-wanderung-von-salz-und-sand-wetter-und-watt-ab-12-jahren
DTEND;TZID=Europe/Berlin:20240216T120000
DTSTAMP:20260422T142807Z
DTSTART;TZID=Europe/Berlin:20240216T100000
GEO:53.790643;7.901587
LOCATION:Nationalpark-Haus "Rosenhaus" Wangerooge\, Friedrich-August-Straße
  18\, Wangerooge
RRULE:FREQ=WEEKLY;UNTIL=20240723T100000;BYDAY=WE
SEQUENCE:0
SUMMARY:Geographische Wanderung - Von Salz und Sand\, Wetter und Watt (ab 1
 2 Jahren)
UID:e_100790758_iv0
URL:http://pages.destination.one/de/ostfriesland/streaming/detail/Event/e_1
 00790758/geographische-wanderung-von-salz-und-sand-wetter-und-watt-ab-12-j
 ahren
END:VEVENT
BEGIN:VEVENT
CATEGORIES:Führung
CATEGORIES:Naturführung
CATEGORIES:... zu Fuß
CATEGORIES:Exkursion
DESCRIPTION:Wie kommt das Salz ins Meer? Wie entstand Wangerooge? Was\nist 
 Sand? Diese und andere Fragen wollen wir bei einer\nWanderung durch die Wa
 ngerooger Inselnatur beantworten.\n\nmehr Informationen unter http://pages
 .destination.one/de/ostfriesland/streaming/detail/Event/e_100790758/geogra
 phische-wanderung-von-salz-und-sand-wetter-und-watt-ab-12-jahren
DTEND;TZID=Europe/Berlin:20240731T120000
DTSTAMP:20260422T142807Z
DTSTART;TZID=Europe/Berlin:20240731T100000
GEO:53.790643;7.901587
LOCATION:Nationalpark-Haus "Rosenhaus" Wangerooge\, Friedrich-August-Straße
  18\, Wangerooge
RRULE:FREQ=WEEKLY;UNTIL=20241218T110000;BYDAY=WE
SEQUENCE:0
SUMMARY:Geographische Wanderung - Von Salz und Sand\, Wetter und Watt (ab 1
 2 Jahren)
UID:e_100790758_iv1
URL:http://pages.destination.one/de/ostfriesland/streaming/detail/Event/e_1
 00790758/geographische-wanderung-von-salz-und-sand-wetter-und-watt-ab-12-j
 ahren
END:VEVENT
BEGIN:VEVENT
CATEGORIES:Führung
CATEGORIES:Naturführung
CATEGORIES:... zu Fuß
CATEGORIES:Exkursion
DESCRIPTION:Wie kommt das Salz ins Meer? Wie entstand Wangerooge? Was\nist 
 Sand? Diese und andere Fragen wollen wir bei einer\nWanderung durch die Wa
 ngerooger Inselnatur beantworten.\n\nmehr Informationen unter http://pages
 .destination.one/de/ostfriesland/streaming/detail/Event/e_100790758/geogra
 phische-wanderung-von-salz-und-sand-wetter-und-watt-ab-12-jahren
DTEND;TZID=Europe/Berlin:20250108T120000
DTSTAMP:20260422T142807Z
DTSTART;TZID=Europe/Berlin:20250108T100000
GEO:53.790643;7.901587
LOCATION:Nationalpark-Haus "Rosenhaus" Wangerooge\, Friedrich-August-Straße
  18\, Wangerooge
RRULE:FREQ=WEEKLY;UNTIL=20250716T100000;BYDAY=WE
SEQUENCE:0
SUMMARY:Geographische Wanderung - Von Salz und Sand\, Wetter und Watt (ab 1
 2 Jahren)
UID:e_100790758_iv2
URL:http://pages.destination.one/de/ostfriesland/streaming/detail/Event/e_1
 00790758/geographische-wanderung-von-salz-und-sand-wetter-und-watt-ab-12-j
 ahren
END:VEVENT
BEGIN:VEVENT
CATEGORIES:Führung
CATEGORIES:Naturführung
CATEGORIES:... zu Fuß
CATEGORIES:Exkursion
DESCRIPTION:Wie kommt das Salz ins Meer? Wie entstand Wangerooge? Was\nist 
 Sand? Diese und andere Fragen wollen wir bei einer\nWanderung durch die Wa
 ngerooger Inselnatur beantworten.\n\nmehr Informationen unter http://pages
 .destination.one/de/ostfriesland/streaming/detail/Event/e_100790758/geogra
 phische-wanderung-von-salz-und-sand-wetter-und-watt-ab-12-jahren
DTEND;TZID=Europe/Berlin:20250730T120000
DTSTAMP:20260422T142807Z
DTSTART;TZID=Europe/Berlin:20250730T100000
GEO:53.790643;7.901587
LOCATION:Nationalpark-Haus "Rosenhaus" Wangerooge\, Friedrich-August-Straße
  18\, Wangerooge
RRULE:FREQ=WEEKLY;UNTIL=20251008T100000;BYDAY=WE
SEQUENCE:0
SUMMARY:Geographische Wanderung - Von Salz und Sand\, Wetter und Watt (ab 1
 2 Jahren)
UID:e_100790758_iv3
URL:http://pages.destination.one/de/ostfriesland/streaming/detail/Event/e_1
 00790758/geographische-wanderung-von-salz-und-sand-wetter-und-watt-ab-12-j
 ahren
END:VEVENT
BEGIN:VEVENT
CATEGORIES:Führung
CATEGORIES:Naturführung
CATEGORIES:... zu Fuß
CATEGORIES:Exkursion
DESCRIPTION:Wie kommt das Salz ins Meer? Wie entstand Wangerooge? Was\nist 
 Sand? Diese und andere Fragen wollen wir bei einer\nWanderung durch die Wa
 ngerooger Inselnatur beantworten.\n\nmehr Informationen unter http://pages
 .destination.one/de/ostfriesland/streaming/detail/Event/e_100790758/geogra
 phische-wanderung-von-salz-und-sand-wetter-und-watt-ab-12-jahren
DTEND;TZID=Europe/Berlin:20251022T120000
DTSTAMP:20260422T142807Z
DTSTART;TZID=Europe/Berlin:20251022T100000
GEO:53.790643;7.901587
LOCATION:Nationalpark-Haus "Rosenhaus" Wangerooge\, Friedrich-August-Straße
  18\, Wangerooge
RRULE:FREQ=WEEKLY;UNTIL=20251217T110000;BYDAY=WE
SEQUENCE:0
SUMMARY:Geographische Wanderung - Von Salz und Sand\, Wetter und Watt (ab 1
 2 Jahren)
UID:e_100790758_iv4
URL:http://pages.destination.one/de/ostfriesland/streaming/detail/Event/e_1
 00790758/geographische-wanderung-von-salz-und-sand-wetter-und-watt-ab-12-j
 ahren
END:VEVENT
BEGIN:VEVENT
CATEGORIES:Führung
CATEGORIES:Naturführung
CATEGORIES:... zu Fuß
CATEGORIES:Exkursion
DESCRIPTION:Wie kommt das Salz ins Meer? Wie entstand Wangerooge? Was\nist 
 Sand? Diese und andere Fragen wollen wir bei einer\nWanderung durch die Wa
 ngerooger Inselnatur beantworten.\n\nmehr Informationen unter http://pages
 .destination.one/de/ostfriesland/streaming/detail/Event/e_100790758/geogra
 phische-wanderung-von-salz-und-sand-wetter-und-watt-ab-12-jahren
DTEND;TZID=Europe/Berlin:20260107T113000
DTSTAMP:20260422T142807Z
DTSTART;TZID=Europe/Berlin:20260107T100000
GEO:53.790643;7.901587
LOCATION:Nationalpark-Haus "Rosenhaus" Wangerooge\, Friedrich-August-Straße
  18\, Wangerooge
RRULE:FREQ=WEEKLY;UNTIL=20260715T093000;BYDAY=WE
SEQUENCE:0
SUMMARY:Geographische Wanderung - Von Salz und Sand\, Wetter und Watt (ab 1
 2 Jahren)
UID:e_100790758_iv5
URL:http://pages.destination.one/de/ostfriesland/streaming/detail/Event/e_1
 00790758/geographische-wanderung-von-salz-und-sand-wetter-und-watt-ab-12-j
 ahren
END:VEVENT
BEGIN:VEVENT
CATEGORIES:Führung
CATEGORIES:Naturführung
CATEGORIES:... zu Fuß
CATEGORIES:Exkursion
DESCRIPTION:Wie kommt das Salz ins Meer? Wie entstand Wangerooge? Was\nist 
 Sand? Diese und andere Fragen wollen wir bei einer\nWanderung durch die Wa
 ngerooger Inselnatur beantworten.\n\nmehr Informationen unter http://pages
 .destination.one/de/ostfriesland/streaming/detail/Event/e_100790758/geogra
 phische-wanderung-von-salz-und-sand-wetter-und-watt-ab-12-jahren
DTEND;TZID=Europe/Berlin:20260729T113000
DTSTAMP:20260422T142807Z
DTSTART;TZID=Europe/Berlin:20260729T100000
GEO:53.790643;7.901587
LOCATION:Nationalpark-Haus "Rosenhaus" Wangerooge\, Friedrich-August-Straße
  18\, Wangerooge
RRULE:FREQ=WEEKLY;UNTIL=20261007T093000;BYDAY=WE
SEQUENCE:0
SUMMARY:Geographische Wanderung - Von Salz und Sand\, Wetter und Watt (ab 1
 2 Jahren)
UID:e_100790758_iv6
URL:http://pages.destination.one/de/ostfriesland/streaming/detail/Event/e_1
 00790758/geographische-wanderung-von-salz-und-sand-wetter-und-watt-ab-12-j
 ahren
END:VEVENT
BEGIN:VEVENT
CATEGORIES:Führung
CATEGORIES:Naturführung
CATEGORIES:... zu Fuß
CATEGORIES:Exkursion
DESCRIPTION:Wie kommt das Salz ins Meer? Wie entstand Wangerooge? Was\nist 
 Sand? Diese und andere Fragen wollen wir bei einer\nWanderung durch die Wa
 ngerooger Inselnatur beantworten.\n\nmehr Informationen unter http://pages
 .destination.one/de/ostfriesland/streaming/detail/Event/e_100790758/geogra
 phische-wanderung-von-salz-und-sand-wetter-und-watt-ab-12-jahren
DTEND;TZID=Europe/Berlin:20261021T113000
DTSTAMP:20260422T142807Z
DTSTART;TZID=Europe/Berlin:20261021T100000
GEO:53.790643;7.901587
LOCATION:Nationalpark-Haus "Rosenhaus" Wangerooge\, Friedrich-August-Straße
  18\, Wangerooge
RRULE:FREQ=WEEKLY;UNTIL=20261216T103000;BYDAY=WE
SEQUENCE:0
SUMMARY:Geographische Wanderung - Von Salz und Sand\, Wetter und Watt (ab 1
 2 Jahren)
UID:e_100790758_iv7
URL:http://pages.destination.one/de/ostfriesland/streaming/detail/Event/e_1
 00790758/geographische-wanderung-von-salz-und-sand-wetter-und-watt-ab-12-j
 ahren
END:VEVENT
BEGIN:VEVENT
CATEGORIES:Führung
CATEGORIES:Naturführung
CATEGORIES:... zu Fuß
CATEGORIES:Exkursion
DESCRIPTION:Wie kommt das Salz ins Meer? Wie entstand Wangerooge? Was\nist 
 Sand? Diese und andere Fragen wollen wir bei einer\nWanderung durch die Wa
 ngerooger Inselnatur beantworten.\n\nmehr Informationen unter http://pages
 .destination.one/de/ostfriesland/streaming/detail/Event/e_100790758/geogra
 phische-wanderung-von-salz-und-sand-wetter-und-watt-ab-12-jahren
DTEND;TZID=Europe/Berlin:20261230T113000
DTSTAMP:20260422T142807Z
DTSTART;TZID=Europe/Berlin:20261230T100000
GEO:53.790643;7.901587
LOCATION:Nationalpark-Haus "Rosenhaus" Wangerooge\, Friedrich-August-Straße
  18\, Wangerooge
SEQUENCE:0
SUMMARY:Geographische Wanderung - Von Salz und Sand\, Wetter und Watt (ab 1
 2 Jahren)
UID:e_100790758_iv8
URL:http://pages.destination.one/de/ostfriesland/streaming/detail/Event/e_1
 00790758/geographische-wanderung-von-salz-und-sand-wetter-und-watt-ab-12-j
 ahren
END:VEVENT
BEGIN:VTIMEZONE
TZID:Europe/Berlin
X-LIC-LOCATION:Europe/Berlin
BEGIN:DAYLIGHT
DTSTART:19700329T020000
RRULE:FREQ=YEARLY;BYDAY=-1SU;BYMONTH=3
TZNAME:CEST
TZOFFSETFROM:+0100
TZOFFSETTO:+0200
END:DAYLIGHT
BEGIN:STANDARD
DTSTART:19701025T030000
RRULE:FREQ=YEARLY;BYDAY=-1SU;BYMONTH=10
TZNAME:CET
TZOFFSETFROM:+0200
TZOFFSETTO:+0100
END:STANDARD
END:VTIMEZONE
END:VCALENDAR
