BEGIN:VCALENDAR
VERSION:2.0
PRODID:-//destination.one//NONSGML destination.meta API//DE
X-WR-CALDESC:A calendar powered by destination.meta
X-WR-CALNAME:ostfriesland Kalender via destination.meta
BEGIN:VEVENT
CATEGORIES:Wellness
DESCRIPTION:An jedem Mittwoch findet die Damensauna statt.\n\nmehr Informat
 ionen unter http://pages.destination.one/de/ostfriesland/streaming/detail/
 Event/e_100248819/damensauna-im-koppke-greetsiel
DTEND;TZID=Europe/Berlin:20240306T220000
DTSTAMP:20260422T023253Z
DTSTART;TZID=Europe/Berlin:20240306T090000
GEO:53.502361;7.092442
LOCATION:Schwimmbad und Sauna Koppke Greetsiel\, Zur Hauener Hooge 11\, Kru
 mmhörn Greetsiel
ORGANIZER;CN=Schwimmbad und Sauna Koppke Greetsiel:mailto:moin@greetsiel.de
RRULE:FREQ=WEEKLY;UNTIL=20240430T200000;BYDAY=WE
SEQUENCE:0
SUMMARY:Damensauna im Koppke Greetsiel
UID:e_100248819_iv0
URL:http://pages.destination.one/de/ostfriesland/streaming/detail/Event/e_1
 00248819/damensauna-im-koppke-greetsiel
END:VEVENT
BEGIN:VEVENT
CATEGORIES:Wellness
DESCRIPTION:An jedem Mittwoch findet die Damensauna statt.\n\nmehr Informat
 ionen unter http://pages.destination.one/de/ostfriesland/streaming/detail/
 Event/e_100248819/damensauna-im-koppke-greetsiel
DTEND;TZID=Europe/Berlin:20240508T220000
DTSTAMP:20260422T023253Z
DTSTART;TZID=Europe/Berlin:20240508T090000
GEO:53.502361;7.092442
LOCATION:Schwimmbad und Sauna Koppke Greetsiel\, Zur Hauener Hooge 11\, Kru
 mmhörn Greetsiel
ORGANIZER;CN=Schwimmbad und Sauna Koppke Greetsiel:mailto:moin@greetsiel.de
RRULE:FREQ=WEEKLY;UNTIL=20241218T210000;BYDAY=WE
SEQUENCE:0
SUMMARY:Damensauna im Koppke Greetsiel
UID:e_100248819_iv1
URL:http://pages.destination.one/de/ostfriesland/streaming/detail/Event/e_1
 00248819/damensauna-im-koppke-greetsiel
END:VEVENT
BEGIN:VEVENT
CATEGORIES:Wellness
DESCRIPTION:An jedem Mittwoch findet die Damensauna statt.\n\nmehr Informat
 ionen unter http://pages.destination.one/de/ostfriesland/streaming/detail/
 Event/e_100248819/damensauna-im-koppke-greetsiel
DTEND;TZID=Europe/Berlin:20250108T220000
DTSTAMP:20260422T023253Z
DTSTART;TZID=Europe/Berlin:20250108T090000
GEO:53.502361;7.092442
LOCATION:Schwimmbad und Sauna Koppke Greetsiel\, Zur Hauener Hooge 11\, Kru
 mmhörn Greetsiel
ORGANIZER;CN=Schwimmbad und Sauna Koppke Greetsiel:mailto:moin@greetsiel.de
RRULE:FREQ=WEEKLY;UNTIL=20250304T210000;BYDAY=WE
SEQUENCE:0
SUMMARY:Damensauna im Koppke Greetsiel
UID:e_100248819_iv2
URL:http://pages.destination.one/de/ostfriesland/streaming/detail/Event/e_1
 00248819/damensauna-im-koppke-greetsiel
END:VEVENT
BEGIN:VEVENT
CATEGORIES:Wellness
DESCRIPTION:An jedem Mittwoch findet die Damensauna statt.\n\nmehr Informat
 ionen unter http://pages.destination.one/de/ostfriesland/streaming/detail/
 Event/e_100248819/damensauna-im-koppke-greetsiel
DTEND;TZID=Europe/Berlin:20250312T220000
DTSTAMP:20260422T023253Z
DTSTART;TZID=Europe/Berlin:20250312T090000
GEO:53.502361;7.092442
LOCATION:Schwimmbad und Sauna Koppke Greetsiel\, Zur Hauener Hooge 11\, Kru
 mmhörn Greetsiel
ORGANIZER;CN=Schwimmbad und Sauna Koppke Greetsiel:mailto:moin@greetsiel.de
RRULE:FREQ=WEEKLY;UNTIL=20251223T210000;BYDAY=WE
SEQUENCE:0
SUMMARY:Damensauna im Koppke Greetsiel
UID:e_100248819_iv3
URL:http://pages.destination.one/de/ostfriesland/streaming/detail/Event/e_1
 00248819/damensauna-im-koppke-greetsiel
END:VEVENT
BEGIN:VEVENT
CATEGORIES:Wellness
DESCRIPTION:An jedem Mittwoch findet die Damensauna statt.\n\nmehr Informat
 ionen unter http://pages.destination.one/de/ostfriesland/streaming/detail/
 Event/e_100248819/damensauna-im-koppke-greetsiel
DTEND;TZID=Europe/Berlin:20260107T220000
DTSTAMP:20260422T023253Z
DTSTART;TZID=Europe/Berlin:20260107T090000
GEO:53.502361;7.092442
LOCATION:Schwimmbad und Sauna Koppke Greetsiel\, Zur Hauener Hooge 11\, Kru
 mmhörn Greetsiel
ORGANIZER;CN=Schwimmbad und Sauna Koppke Greetsiel:mailto:moin@greetsiel.de
RRULE:FREQ=WEEKLY;UNTIL=20260113T210000;BYDAY=WE
SEQUENCE:0
SUMMARY:Damensauna im Koppke Greetsiel
UID:e_100248819_iv4
URL:http://pages.destination.one/de/ostfriesland/streaming/detail/Event/e_1
 00248819/damensauna-im-koppke-greetsiel
END:VEVENT
BEGIN:VEVENT
CATEGORIES:Wellness
DESCRIPTION:An jedem Mittwoch findet die Damensauna statt.\n\nmehr Informat
 ionen unter http://pages.destination.one/de/ostfriesland/streaming/detail/
 Event/e_100248819/damensauna-im-koppke-greetsiel
DTEND;TZID=Europe/Berlin:20260114T220000
DTSTAMP:20260422T023253Z
DTSTART;TZID=Europe/Berlin:20260114T160000
GEO:53.502361;7.092442
LOCATION:Schwimmbad und Sauna Koppke Greetsiel\, Zur Hauener Hooge 11\, Kru
 mmhörn Greetsiel
ORGANIZER;CN=Schwimmbad und Sauna Koppke Greetsiel:mailto:moin@greetsiel.de
SEQUENCE:0
SUMMARY:Damensauna im Koppke Greetsiel
UID:e_100248819_iv5
URL:http://pages.destination.one/de/ostfriesland/streaming/detail/Event/e_1
 00248819/damensauna-im-koppke-greetsiel
END:VEVENT
BEGIN:VEVENT
CATEGORIES:Wellness
DESCRIPTION:An jedem Mittwoch findet die Damensauna statt.\n\nmehr Informat
 ionen unter http://pages.destination.one/de/ostfriesland/streaming/detail/
 Event/e_100248819/damensauna-im-koppke-greetsiel
DTEND;TZID=Europe/Berlin:20260121T220000
DTSTAMP:20260422T023253Z
DTSTART;TZID=Europe/Berlin:20260121T160000
GEO:53.502361;7.092442
LOCATION:Schwimmbad und Sauna Koppke Greetsiel\, Zur Hauener Hooge 11\, Kru
 mmhörn Greetsiel
ORGANIZER;CN=Schwimmbad und Sauna Koppke Greetsiel:mailto:moin@greetsiel.de
SEQUENCE:0
SUMMARY:Damensauna im Koppke Greetsiel
UID:e_100248819_iv6
URL:http://pages.destination.one/de/ostfriesland/streaming/detail/Event/e_1
 00248819/damensauna-im-koppke-greetsiel
END:VEVENT
BEGIN:VEVENT
CATEGORIES:Wellness
DESCRIPTION:An jedem Mittwoch findet die Damensauna statt.\n\nmehr Informat
 ionen unter http://pages.destination.one/de/ostfriesland/streaming/detail/
 Event/e_100248819/damensauna-im-koppke-greetsiel
DTEND;TZID=Europe/Berlin:20260128T220000
DTSTAMP:20260422T023253Z
DTSTART;TZID=Europe/Berlin:20260128T160000
GEO:53.502361;7.092442
LOCATION:Schwimmbad und Sauna Koppke Greetsiel\, Zur Hauener Hooge 11\, Kru
 mmhörn Greetsiel
ORGANIZER;CN=Schwimmbad und Sauna Koppke Greetsiel:mailto:moin@greetsiel.de
SEQUENCE:0
SUMMARY:Damensauna im Koppke Greetsiel
UID:e_100248819_iv7
URL:http://pages.destination.one/de/ostfriesland/streaming/detail/Event/e_1
 00248819/damensauna-im-koppke-greetsiel
END:VEVENT
BEGIN:VEVENT
CATEGORIES:Wellness
DESCRIPTION:An jedem Mittwoch findet die Damensauna statt.\n\nmehr Informat
 ionen unter http://pages.destination.one/de/ostfriesland/streaming/detail/
 Event/e_100248819/damensauna-im-koppke-greetsiel
DTEND;TZID=Europe/Berlin:20260204T220000
DTSTAMP:20260422T023253Z
DTSTART;TZID=Europe/Berlin:20260204T090000
GEO:53.502361;7.092442
LOCATION:Schwimmbad und Sauna Koppke Greetsiel\, Zur Hauener Hooge 11\, Kru
 mmhörn Greetsiel
ORGANIZER;CN=Schwimmbad und Sauna Koppke Greetsiel:mailto:moin@greetsiel.de
RRULE:FREQ=WEEKLY;BYDAY=WE
SEQUENCE:0
SUMMARY:Damensauna im Koppke Greetsiel
UID:e_100248819_iv8
URL:http://pages.destination.one/de/ostfriesland/streaming/detail/Event/e_1
 00248819/damensauna-im-koppke-greetsiel
END:VEVENT
BEGIN:VTIMEZONE
TZID:Europe/Berlin
X-LIC-LOCATION:Europe/Berlin
BEGIN:DAYLIGHT
DTSTART:19700329T020000
RRULE:FREQ=YEARLY;BYDAY=-1SU;BYMONTH=3
TZNAME:CEST
TZOFFSETFROM:+0100
TZOFFSETTO:+0200
END:DAYLIGHT
BEGIN:STANDARD
DTSTART:19701025T030000
RRULE:FREQ=YEARLY;BYDAY=-1SU;BYMONTH=10
TZNAME:CET
TZOFFSETFROM:+0200
TZOFFSETTO:+0100
END:STANDARD
END:VTIMEZONE
END:VCALENDAR
