BEGIN:VCALENDAR
VERSION:2.0
PRODID:-//destination.one//NONSGML destination.meta API//DE
X-WR-CALDESC:A calendar powered by destination.meta
X-WR-CALNAME:ostfriesland Kalender via destination.meta
BEGIN:VEVENT
CATEGORIES:Wochenmarkt
DESCRIPTION:Wochenmarkt Esens\n\nmehr Informationen unter http://pages.dest
 ination.one/de/ostfriesland/streaming/detail/Event/e_100085169/wochenmarkt
 -esens
DTEND;TZID=Europe/Berlin:20170510T120000
DTSTAMP:20260422T022812Z
DTSTART;TZID=Europe/Berlin:20170510T070000
GEO:53.646980;7.612740
LOCATION:Kirchplatz/ Marktplatz\, Kirchplatz/ Marktplatz\, Esens
RRULE:FREQ=WEEKLY;UNTIL=20171226T060000;BYDAY=WE,SA
SEQUENCE:0
SUMMARY:Wochenmarkt Esens
UID:e_100085169_iv0
URL:http://pages.destination.one/de/ostfriesland/streaming/detail/Event/e_1
 00085169/wochenmarkt-esens
END:VEVENT
BEGIN:VEVENT
CATEGORIES:Wochenmarkt
DESCRIPTION:Wochenmarkt Esens\n\nmehr Informationen unter http://pages.dest
 ination.one/de/ostfriesland/streaming/detail/Event/e_100085169/wochenmarkt
 -esens
DTEND;TZID=Europe/Berlin:20171227T120000
DTSTAMP:20260422T022812Z
DTSTART;TZID=Europe/Berlin:20171227T070000
GEO:53.646980;7.612740
LOCATION:Kirchplatz/ Marktplatz\, Kirchplatz/ Marktplatz\, Esens
RRULE:FREQ=WEEKLY;UNTIL=20181002T100000;BYDAY=WE,SA
SEQUENCE:0
SUMMARY:Wochenmarkt Esens
UID:e_100085169_iv1
URL:http://pages.destination.one/de/ostfriesland/streaming/detail/Event/e_1
 00085169/wochenmarkt-esens
END:VEVENT
BEGIN:VEVENT
CATEGORIES:Wochenmarkt
DESCRIPTION:Wochenmarkt Esens\n\nmehr Informationen unter http://pages.dest
 ination.one/de/ostfriesland/streaming/detail/Event/e_100085169/wochenmarkt
 -esens
DTEND;TZID=Europe/Berlin:20181004T120000
DTSTAMP:20260422T022812Z
DTSTART;TZID=Europe/Berlin:20181004T070000
GEO:53.646980;7.612740
LOCATION:Kirchplatz/ Marktplatz\, Kirchplatz/ Marktplatz\, Esens
RRULE:FREQ=WEEKLY;UNTIL=20181030T110000;BYDAY=WE,SA
SEQUENCE:0
SUMMARY:Wochenmarkt Esens
UID:e_100085169_iv2
URL:http://pages.destination.one/de/ostfriesland/streaming/detail/Event/e_1
 00085169/wochenmarkt-esens
END:VEVENT
BEGIN:VEVENT
CATEGORIES:Wochenmarkt
DESCRIPTION:Wochenmarkt Esens\n\nmehr Informationen unter http://pages.dest
 ination.one/de/ostfriesland/streaming/detail/Event/e_100085169/wochenmarkt
 -esens
DTEND;TZID=Europe/Berlin:20181101T120000
DTSTAMP:20260422T022812Z
DTSTART;TZID=Europe/Berlin:20181101T070000
GEO:53.646980;7.612740
LOCATION:Kirchplatz/ Marktplatz\, Kirchplatz/ Marktplatz\, Esens
RRULE:FREQ=WEEKLY;UNTIL=20181127T060000;BYDAY=WE,SA
SEQUENCE:0
SUMMARY:Wochenmarkt Esens
UID:e_100085169_iv3
URL:http://pages.destination.one/de/ostfriesland/streaming/detail/Event/e_1
 00085169/wochenmarkt-esens
END:VEVENT
BEGIN:VEVENT
CATEGORIES:Wochenmarkt
DESCRIPTION:Wochenmarkt Esens\n\nmehr Informationen unter http://pages.dest
 ination.one/de/ostfriesland/streaming/detail/Event/e_100085169/wochenmarkt
 -esens
DTEND;TZID=Europe/Berlin:20181128T120000
DTSTAMP:20260422T022812Z
DTSTART;TZID=Europe/Berlin:20181128T070000
GEO:53.646980;7.612740
LOCATION:Kirchplatz/ Marktplatz\, Kirchplatz/ Marktplatz\, Esens
RRULE:FREQ=WEEKLY;UNTIL=20190430T100000;BYDAY=WE
SEQUENCE:0
SUMMARY:Wochenmarkt Esens
UID:e_100085169_iv4
URL:http://pages.destination.one/de/ostfriesland/streaming/detail/Event/e_1
 00085169/wochenmarkt-esens
END:VEVENT
BEGIN:VEVENT
CATEGORIES:Wochenmarkt
DESCRIPTION:Wochenmarkt Esens\n\nmehr Informationen unter http://pages.dest
 ination.one/de/ostfriesland/streaming/detail/Event/e_100085169/wochenmarkt
 -esens
DTEND;TZID=Europe/Berlin:20190406T120000
DTSTAMP:20260422T022812Z
DTSTART;TZID=Europe/Berlin:20190406T070000
GEO:53.646980;7.612740
LOCATION:Kirchplatz/ Marktplatz\, Kirchplatz/ Marktplatz\, Esens
RRULE:FREQ=WEEKLY;UNTIL=20191123T110000;BYDAY=SA
SEQUENCE:0
SUMMARY:Wochenmarkt Esens
UID:e_100085169_iv5
URL:http://pages.destination.one/de/ostfriesland/streaming/detail/Event/e_1
 00085169/wochenmarkt-esens
END:VEVENT
BEGIN:VEVENT
CATEGORIES:Wochenmarkt
DESCRIPTION:Wochenmarkt Esens\n\nmehr Informationen unter http://pages.dest
 ination.one/de/ostfriesland/streaming/detail/Event/e_100085169/wochenmarkt
 -esens
DTEND;TZID=Europe/Berlin:20190508T120000
DTSTAMP:20260422T022812Z
DTSTART;TZID=Europe/Berlin:20190508T070000
GEO:53.646980;7.612740
LOCATION:Kirchplatz/ Marktplatz\, Kirchplatz/ Marktplatz\, Esens
RRULE:FREQ=WEEKLY;UNTIL=20191224T110000;BYDAY=WE
SEQUENCE:0
SUMMARY:Wochenmarkt Esens
UID:e_100085169_iv6
URL:http://pages.destination.one/de/ostfriesland/streaming/detail/Event/e_1
 00085169/wochenmarkt-esens
END:VEVENT
BEGIN:VEVENT
CATEGORIES:Wochenmarkt
DESCRIPTION:Wochenmarkt Esens\n\nmehr Informationen unter http://pages.dest
 ination.one/de/ostfriesland/streaming/detail/Event/e_100085169/wochenmarkt
 -esens
DTEND;TZID=Europe/Berlin:20200108T120000
DTSTAMP:20260422T022812Z
DTSTART;TZID=Europe/Berlin:20200108T070000
GEO:53.646980;7.612740
LOCATION:Kirchplatz/ Marktplatz\, Kirchplatz/ Marktplatz\, Esens
RRULE:FREQ=WEEKLY;UNTIL=20201110T060000;BYDAY=WE
SEQUENCE:0
SUMMARY:Wochenmarkt Esens
UID:e_100085169_iv7
URL:http://pages.destination.one/de/ostfriesland/streaming/detail/Event/e_1
 00085169/wochenmarkt-esens
END:VEVENT
BEGIN:VEVENT
CATEGORIES:Wochenmarkt
DESCRIPTION:Wochenmarkt Esens\n\nmehr Informationen unter http://pages.dest
 ination.one/de/ostfriesland/streaming/detail/Event/e_100085169/wochenmarkt
 -esens
DTEND;TZID=Europe/Berlin:20201111T123000
DTSTAMP:20260422T022812Z
DTSTART;TZID=Europe/Berlin:20201111T080000
GEO:53.646980;7.612740
LOCATION:Kirchplatz/ Marktplatz\, Kirchplatz/ Marktplatz\, Esens
RRULE:FREQ=WEEKLY;UNTIL=20210413T060000;BYDAY=WE
SEQUENCE:0
SUMMARY:Wochenmarkt Esens
UID:e_100085169_iv8
URL:http://pages.destination.one/de/ostfriesland/streaming/detail/Event/e_1
 00085169/wochenmarkt-esens
END:VEVENT
BEGIN:VEVENT
CATEGORIES:Wochenmarkt
DESCRIPTION:Wochenmarkt Esens\n\nmehr Informationen unter http://pages.dest
 ination.one/de/ostfriesland/streaming/detail/Event/e_100085169/wochenmarkt
 -esens
DTEND;TZID=Europe/Berlin:20201114T123000
DTSTAMP:20260422T022812Z
DTSTART;TZID=Europe/Berlin:20201114T080000
GEO:53.646980;7.612740
LOCATION:Kirchplatz/ Marktplatz\, Kirchplatz/ Marktplatz\, Esens
RRULE:FREQ=WEEKLY;UNTIL=20201225T113000;BYDAY=SA
SEQUENCE:0
SUMMARY:Wochenmarkt Esens
UID:e_100085169_iv9
URL:http://pages.destination.one/de/ostfriesland/streaming/detail/Event/e_1
 00085169/wochenmarkt-esens
END:VEVENT
BEGIN:VEVENT
CATEGORIES:Wochenmarkt
DESCRIPTION:Wochenmarkt Esens\n\nmehr Informationen unter http://pages.dest
 ination.one/de/ostfriesland/streaming/detail/Event/e_100085169/wochenmarkt
 -esens
DTEND;TZID=Europe/Berlin:20210102T123000
DTSTAMP:20260422T022812Z
DTSTART;TZID=Europe/Berlin:20210102T080000
GEO:53.646980;7.612740
LOCATION:Kirchplatz/ Marktplatz\, Kirchplatz/ Marktplatz\, Esens
RRULE:FREQ=WEEKLY;UNTIL=20210102T113000;BYDAY=SA
SEQUENCE:0
SUMMARY:Wochenmarkt Esens
UID:e_100085169_iv10
URL:http://pages.destination.one/de/ostfriesland/streaming/detail/Event/e_1
 00085169/wochenmarkt-esens
END:VEVENT
BEGIN:VEVENT
CATEGORIES:Wochenmarkt
DESCRIPTION:Wochenmarkt Esens\n\nmehr Informationen unter http://pages.dest
 ination.one/de/ostfriesland/streaming/detail/Event/e_100085169/wochenmarkt
 -esens
DTEND;TZID=Europe/Berlin:20210414T123000
DTSTAMP:20260422T022812Z
DTSTART;TZID=Europe/Berlin:20210414T070000
GEO:53.646980;7.612740
LOCATION:Kirchplatz/ Marktplatz\, Kirchplatz/ Marktplatz\, Esens
RRULE:FREQ=WEEKLY;UNTIL=20241224T113000;BYDAY=WE
SEQUENCE:0
SUMMARY:Wochenmarkt Esens
UID:e_100085169_iv11
URL:http://pages.destination.one/de/ostfriesland/streaming/detail/Event/e_1
 00085169/wochenmarkt-esens
END:VEVENT
BEGIN:VEVENT
CATEGORIES:Wochenmarkt
DESCRIPTION:Wochenmarkt Esens\n\nmehr Informationen unter http://pages.dest
 ination.one/de/ostfriesland/streaming/detail/Event/e_100085169/wochenmarkt
 -esens
DTEND;TZID=Europe/Berlin:20210417T123000
DTSTAMP:20260422T022812Z
DTSTART;TZID=Europe/Berlin:20210417T070000
GEO:53.646980;7.612740
LOCATION:Kirchplatz/ Marktplatz\, Kirchplatz/ Marktplatz\, Esens
RRULE:FREQ=WEEKLY;UNTIL=20211127T113000;BYDAY=SA
SEQUENCE:0
SUMMARY:Wochenmarkt Esens
UID:e_100085169_iv12
URL:http://pages.destination.one/de/ostfriesland/streaming/detail/Event/e_1
 00085169/wochenmarkt-esens
END:VEVENT
BEGIN:VEVENT
CATEGORIES:Wochenmarkt
DESCRIPTION:Wochenmarkt Esens\n\nmehr Informationen unter http://pages.dest
 ination.one/de/ostfriesland/streaming/detail/Event/e_100085169/wochenmarkt
 -esens
DTEND;TZID=Europe/Berlin:20250108T123000
DTSTAMP:20260422T022812Z
DTSTART;TZID=Europe/Berlin:20250108T070000
GEO:53.646980;7.612740
LOCATION:Kirchplatz/ Marktplatz\, Kirchplatz/ Marktplatz\, Esens
RRULE:FREQ=WEEKLY;BYDAY=WE
SEQUENCE:0
SUMMARY:Wochenmarkt Esens
UID:e_100085169_iv13
URL:http://pages.destination.one/de/ostfriesland/streaming/detail/Event/e_1
 00085169/wochenmarkt-esens
END:VEVENT
BEGIN:VTIMEZONE
TZID:Europe/Berlin
X-LIC-LOCATION:Europe/Berlin
BEGIN:DAYLIGHT
DTSTART:19700329T020000
RRULE:FREQ=YEARLY;BYDAY=-1SU;BYMONTH=3
TZNAME:CEST
TZOFFSETFROM:+0100
TZOFFSETTO:+0200
END:DAYLIGHT
BEGIN:STANDARD
DTSTART:19701025T030000
RRULE:FREQ=YEARLY;BYDAY=-1SU;BYMONTH=10
TZNAME:CET
TZOFFSETFROM:+0200
TZOFFSETTO:+0100
END:STANDARD
END:VTIMEZONE
END:VCALENDAR
